BEGIN:VCALENDAR
VERSION:2.0
PRODID:-//Tukios.com/
BEGIN:VEVENT
UID:776f716d-83ae-43cc-b744-55ef02c5c75b@www.robinsonfuneralhomerh.com
DTSTAMP:20260424T041821Z
DTSTART:20260427T170000Z
DTEND:20260427T180000Z
SUMMARY:Celebration of Life
DESCRIPTION:
URL:https://www.robinsonfuneralhomerh.com/obituaries/edward-cathcart
LOCATION: 270 Aspendale Road  Rock Hill SC 29732
GEO:34.9712129;-81.0677778
END:VEVENT
END:VCALENDAR