BEGIN:VCALENDAR
VERSION:2.0
PRODID:-//Tukios.com/
BEGIN:VEVENT
UID:869a636d-265e-453b-9c4c-5dd487230074@www.robinsonfuneralhomerh.com
DTSTAMP:20260424T042227Z
DTSTART:20260426T200000Z
DTEND:20260426T220000Z
SUMMARY:Visitation
DESCRIPTION:
URL:https://www.robinsonfuneralhomerh.com/obituaries/edward-cathcart
LOCATION: 534 Hampton St  Rock Hill SC 29730
GEO:34.9220846;-81.0344321
END:VEVENT
END:VCALENDAR