BEGIN:VCALENDAR
VERSION:2.0
PRODID:-//Tukios.com/
BEGIN:VEVENT
UID:638bd06b-77b3-44a1-abd8-6598dbc8d716@www.robinsonfuneralhomerh.com
DTSTAMP:20260424T042103Z
DTSTART:20260427
SUMMARY:Interment
DESCRIPTION:
URL:https://www.robinsonfuneralhomerh.com/obituaries/edward-cathcart
LOCATION: 401 Hollis Lakes Road  Rock Hill SC 29732
GEO:34.9695672;-81.0628458
END:VEVENT
END:VCALENDAR