BEGIN:VCALENDAR
VERSION:2.0
PRODID:-//Tukios.com/
BEGIN:VEVENT
UID:e3ea95c7-3261-4adf-978c-f8aae6740b24@www.robinsonfuneralhomerh.com
DTSTAMP:20260424T095851Z
DTSTART:20260424T160000Z
DTEND:20260424T170000Z
SUMMARY:Viewing
DESCRIPTION:
URL:https://www.robinsonfuneralhomerh.com/obituaries/marcus-freeman
LOCATION:Mt Do-Well Baptist Church 4717 Chester Hwy  McConnells SC 29726
GEO:34.8550791;-81.2396957
END:VEVENT
END:VCALENDAR