BEGIN:VCALENDAR
VERSION:2.0
PRODID:-//Tukios.com/
BEGIN:VEVENT
UID:8d8ac0fa-11e7-4a97-8a8b-197c218b9e9c@www.robinsonfuneralhomerh.com
DTSTAMP:20260424T095851Z
DTSTART:20260424T170000Z
DTEND:20260424T180000Z
SUMMARY:Celebration of Life
DESCRIPTION:
URL:https://www.robinsonfuneralhomerh.com/obituaries/marcus-freeman
LOCATION: 4717 Chester Hwy  McConnells SC 29726
GEO:34.8550791;-81.2396957
END:VEVENT
END:VCALENDAR