BEGIN:VCALENDAR
VERSION:2.0
PRODID:-//Tukios.com/
BEGIN:VEVENT
UID:de80a013-4b04-40da-9583-d5b1ac1cbaf3@www.robinsonfuneralhomerh.com
DTSTAMP:20260424T095803Z
DTSTART:20260424
SUMMARY:Interment
DESCRIPTION:
URL:https://www.robinsonfuneralhomerh.com/obituaries/marcus-freeman
LOCATION: 4717 Chester Hwy  McConnells SC 29726
GEO:34.8550791;-81.2396957
END:VEVENT
END:VCALENDAR