BEGIN:VCALENDAR
VERSION:2.0
PRODID:-//Tukios.com/
BEGIN:VEVENT
UID:9fdd601a-6f0d-4e4b-a3f8-bf4794209628@www.robinsonfuneralhomerh.com
DTSTAMP:20260423T195645Z
DTSTART:20260425T170000Z
DTEND:20260425T180000Z
SUMMARY:Celebration of Life
DESCRIPTION:
URL:https://www.robinsonfuneralhomerh.com/obituaries/master-antonio-culp
LOCATION: 534 Hampton St  Rock Hill SC 29730
GEO:34.9220846;-81.0344321
END:VEVENT
END:VCALENDAR