BEGIN:VCALENDAR
VERSION:2.0
PRODID:-//Tukios.com/
BEGIN:VEVENT
UID:2ed842f6-7b02-410e-92fa-eeee5609d4da@www.robinsonfuneralhomerh.com
DTSTAMP:20260423T195721Z
DTSTART:20260424T210000Z
DTEND:20260424T230000Z
SUMMARY:Visitation
DESCRIPTION:
URL:https://www.robinsonfuneralhomerh.com/obituaries/master-antonio-culp
LOCATION: 534 Hampton St  Rock Hill SC 29730
GEO:34.9220846;-81.0344321
END:VEVENT
END:VCALENDAR