BEGIN:VCALENDAR
VERSION:2.0
PRODID:-//Tukios.com/
BEGIN:VEVENT
UID:90de0ad8-e57a-4c44-aaa3-cb4775772310@www.robinsonfuneralhomerh.com
DTSTAMP:20260423T195515Z
DTSTART:20260425T130000Z
DTEND:20260425T170000Z
SUMMARY:Viewing
DESCRIPTION:
URL:https://www.robinsonfuneralhomerh.com/obituaries/master-antonio-culp
LOCATION: 534 Hampton St  Rock Hill SC 29730
GEO:34.9220846;-81.0344321
END:VEVENT
END:VCALENDAR