BEGIN:VCALENDAR
VERSION:2.0
PRODID:-//Tukios.com/
BEGIN:VEVENT
UID:3f32086f-653e-4da5-b07c-3d65bd7d181e@www.robinsonfuneralhomerh.com
DTSTAMP:20260423T195515Z
DTSTART:20260425
SUMMARY:Interment
DESCRIPTION:
URL:https://www.robinsonfuneralhomerh.com/obituaries/master-antonio-culp
LOCATION: 1272 Soulsville Street  Rock Hill SC 29732
GEO:34.9418588;-81.0549228
END:VEVENT
END:VCALENDAR